BEGIN:VCALENDAR
VERSION:2.0
PRODID:-//IMA-Psychogenealogie - ECPv6.15.20//NONSGML v1.0//EN
CALSCALE:GREGORIAN
METHOD:PUBLISH
X-ORIGINAL-URL:https://ima-psychogenealogie.fr
X-WR-CALDESC:Évènements pour IMA-Psychogenealogie
REFRESH-INTERVAL;VALUE=DURATION:PT1H
X-Robots-Tag:noindex
X-PUBLISHED-TTL:PT1H
BEGIN:VTIMEZONE
TZID:Europe/Paris
BEGIN:DAYLIGHT
TZOFFSETFROM:+0100
TZOFFSETTO:+0200
TZNAME:CEST
DTSTART:20230326T010000
END:DAYLIGHT
BEGIN:STANDARD
TZOFFSETFROM:+0200
TZOFFSETTO:+0100
TZNAME:CET
DTSTART:20231029T010000
END:STANDARD
BEGIN:DAYLIGHT
TZOFFSETFROM:+0100
TZOFFSETTO:+0200
TZNAME:CEST
DTSTART:20240331T010000
END:DAYLIGHT
BEGIN:STANDARD
TZOFFSETFROM:+0200
TZOFFSETTO:+0100
TZNAME:CET
DTSTART:20241027T010000
END:STANDARD
BEGIN:DAYLIGHT
TZOFFSETFROM:+0100
TZOFFSETTO:+0200
TZNAME:CEST
DTSTART:20250330T010000
END:DAYLIGHT
BEGIN:STANDARD
TZOFFSETFROM:+0200
TZOFFSETTO:+0100
TZNAME:CET
DTSTART:20251026T010000
END:STANDARD
END:VTIMEZONE
BEGIN:VEVENT
DTSTART;TZID=Europe/Paris:20241026T000000
DTEND;TZID=Europe/Paris:20241026T235959
DTSTAMP:20260420T170519
CREATED:20241020T153302Z
LAST-MODIFIED:20241120T154018Z
UID:1789-1729900800-1729987199@ima-psychogenealogie.fr
SUMMARY:Salon « Bulles de Bien-être et d’éveil de Soi » samedi 26 octobre
DESCRIPTION:Venez me retrouvez sur le salon de samedi prochain 😉 \nLe salon sera ouvert de 10h à 19h à samedi ! 😊 \n 
URL:https://ima-psychogenealogie.fr/calendrier/salon-bulles-de-bien-etre-et-deveil-de-soi-samedi-26-octobre/
CATEGORIES:psychogénéalogie,Salon
ATTACH;FMTTYPE=image/jpeg:https://ima-psychogenealogie.fr/wp-content/uploads/462414719_523002513819981_4980832761625089542_n.jpg
END:VEVENT
END:VCALENDAR