BEGIN:VCALENDAR
VERSION:2.0
PRODID:-//IMA-Psychogenealogie - ECPv6.15.20//NONSGML v1.0//EN
CALSCALE:GREGORIAN
METHOD:PUBLISH
X-WR-CALNAME:IMA-Psychogenealogie
X-ORIGINAL-URL:https://ima-psychogenealogie.fr
X-WR-CALDESC:Évènements pour IMA-Psychogenealogie
REFRESH-INTERVAL;VALUE=DURATION:PT1H
X-Robots-Tag:noindex
X-PUBLISHED-TTL:PT1H
BEGIN:VTIMEZONE
TZID:Europe/Paris
BEGIN:DAYLIGHT
TZOFFSETFROM:+0100
TZOFFSETTO:+0200
TZNAME:CEST
DTSTART:20240331T010000
END:DAYLIGHT
BEGIN:STANDARD
TZOFFSETFROM:+0200
TZOFFSETTO:+0100
TZNAME:CET
DTSTART:20241027T010000
END:STANDARD
BEGIN:DAYLIGHT
TZOFFSETFROM:+0100
TZOFFSETTO:+0200
TZNAME:CEST
DTSTART:20250330T010000
END:DAYLIGHT
BEGIN:STANDARD
TZOFFSETFROM:+0200
TZOFFSETTO:+0100
TZNAME:CET
DTSTART:20251026T010000
END:STANDARD
BEGIN:DAYLIGHT
TZOFFSETFROM:+0100
TZOFFSETTO:+0200
TZNAME:CEST
DTSTART:20260329T010000
END:DAYLIGHT
BEGIN:STANDARD
TZOFFSETFROM:+0200
TZOFFSETTO:+0100
TZNAME:CET
DTSTART:20261025T010000
END:STANDARD
END:VTIMEZONE
BEGIN:VEVENT
DTSTART;TZID=Europe/Paris:20250405T100000
DTEND;TZID=Europe/Paris:20250405T190000
DTSTAMP:20260420T064753
CREATED:20250322T155542Z
LAST-MODIFIED:20260316T160937Z
UID:2285-1743847200-1743879600@ima-psychogenealogie.fr
SUMMARY:« Bulles de Bien-être Eveil de Soi » Thouaré/Loire
DESCRIPTION:Je compte sur vous pour le noter dans vos agendas ! \n\n\n On s’y retrouve et on parlera psychogénéalogie\net généalogie !\n\n\n chercher dans l’histoire de nos ancêtres et voir\nl’impact sur nos chemins de vie\n\n\nJe vous retrouverais lors d’une conférence pour\néchanger avec vous sur ce travail qui me passionne \n\n\n J’ai hâte de vous retrouver et de rencontrer ceux qui ne me connaissent pas encore pour vous expliquer comment je travaille.\n\nUn salon gratuit avec restauration sur place
URL:https://ima-psychogenealogie.fr/calendrier/bulles-de-bien-etre-eveil-de-soi-thouare-loire/
LOCATION:Espace Thouaré\, Thouaré\, 44680\, France
CATEGORIES:psychogénéalogie,Salon
ATTACH;FMTTYPE=image/jpeg:https://ima-psychogenealogie.fr/wp-content/uploads/a1f3612e-7e09-43ce-aa5d-5f416c5ae5a8-1.jpg
END:VEVENT
END:VCALENDAR