BEGIN:VCALENDAR
VERSION:2.0
PRODID:-//IMA-Psychogenealogie - ECPv6.15.20//NONSGML v1.0//EN
CALSCALE:GREGORIAN
METHOD:PUBLISH
X-WR-CALNAME:IMA-Psychogenealogie
X-ORIGINAL-URL:https://ima-psychogenealogie.fr
X-WR-CALDESC:Évènements pour IMA-Psychogenealogie
REFRESH-INTERVAL;VALUE=DURATION:PT1H
X-Robots-Tag:noindex
X-PUBLISHED-TTL:PT1H
BEGIN:VTIMEZONE
TZID:Europe/Paris
BEGIN:DAYLIGHT
TZOFFSETFROM:+0100
TZOFFSETTO:+0200
TZNAME:CEST
DTSTART:20240331T010000
END:DAYLIGHT
BEGIN:STANDARD
TZOFFSETFROM:+0200
TZOFFSETTO:+0100
TZNAME:CET
DTSTART:20241027T010000
END:STANDARD
BEGIN:DAYLIGHT
TZOFFSETFROM:+0100
TZOFFSETTO:+0200
TZNAME:CEST
DTSTART:20250330T010000
END:DAYLIGHT
BEGIN:STANDARD
TZOFFSETFROM:+0200
TZOFFSETTO:+0100
TZNAME:CET
DTSTART:20251026T010000
END:STANDARD
BEGIN:DAYLIGHT
TZOFFSETFROM:+0100
TZOFFSETTO:+0200
TZNAME:CEST
DTSTART:20260329T010000
END:DAYLIGHT
BEGIN:STANDARD
TZOFFSETFROM:+0200
TZOFFSETTO:+0100
TZNAME:CET
DTSTART:20261025T010000
END:STANDARD
END:VTIMEZONE
BEGIN:VEVENT
DTSTART;TZID=Europe/Paris:20251011T100000
DTEND;TZID=Europe/Paris:20251012T180000
DTSTAMP:20260419T193823
CREATED:20251004T161022Z
LAST-MODIFIED:20260316T160550Z
UID:3207-1760176800-1760292000@ima-psychogenealogie.fr
SUMMARY:Salon de généalogie Saint Gildas de Rhuys le 11 et 12 octobre !
DESCRIPTION:
URL:https://ima-psychogenealogie.fr/calendrier/salon-de-genealogie-saint-gildas-de-rhuys-le-11-et-12-octobre/
LOCATION:Salle Kercaradec à St GILDAS DE RHUYS (56)\, route de Kercaradec\, Saint Gildas de Rhuys\, 56730\, France
CATEGORIES:Généalogie,psychogénéalogie,Salon
ATTACH;FMTTYPE=image/jpeg:https://ima-psychogenealogie.fr/wp-content/uploads/Salon-Genearhuys-2025-Affiche.jpg
ORGANIZER;CN="Cercle G%C3%A9n%C3%A9alogique de Rhuys":MAILTO:contact@cgrhuys56.org
END:VEVENT
END:VCALENDAR